BEGIN:VCALENDAR
VERSION:2.0
PRODID:-//Tukios.com/
BEGIN:VEVENT
UID:e288797b-8587-4954-88fd-145972caffb7@www.bennettbardenfh.com
DTSTAMP:20260420T174210Z
DTSTART:20260425T180000Z
DTEND:20260425T190000Z
SUMMARY:Visitation
DESCRIPTION:
URL:https://www.bennettbardenfh.com/obituaries/billie-martin-lowry
LOCATION:Bennett & Barden Funeral Home 3215 Anderson Hwy.  Powhatan VA 
	23139
GEO:37.5336676;-77.8713411
END:VEVENT
END:VCALENDAR