BEGIN:VCALENDAR
VERSION:2.0
PRODID:-//Tukios.com/
BEGIN:VEVENT
UID:3beb001e-d419-4143-87fc-038498b293b9@www.bennettbardenfh.com
DTSTAMP:20260420T173726Z
DTSTART:20260425T190000Z
DTEND:20260425T200000Z
SUMMARY:Funeral Service
DESCRIPTION:
URL:https://www.bennettbardenfh.com/obituaries/billie-martin-lowry
LOCATION:Bennett & Barden Funeral Home 3215 Anderson Hwy.  Powhatan VA 
	23139
GEO:37.5336676;-77.8713411
END:VEVENT
END:VCALENDAR