BEGIN:VCALENDAR
VERSION:2.0
PRODID:-//Tukios.com/
BEGIN:VEVENT
UID:300778fe-a89c-47c4-8cb8-a6fdbc13bee3@www.bennettbardenfh.com
DTSTAMP:20260423T211252Z
DTSTART:20260427T220000Z
DTEND:20260428T000000Z
SUMMARY:Visitation
DESCRIPTION:
URL:https://www.bennettbardenfh.com/obituaries/jane-ferebee
LOCATION:Bennett & Barden Funeral Home 3215 Anderson Hwy.  Powhatan VA 
	23139
GEO:37.5336676;-77.8713411
END:VEVENT
END:VCALENDAR