BEGIN:VCALENDAR
VERSION:2.0
PRODID:-//Tukios.com/
BEGIN:VEVENT
UID:4ce49643-300b-42aa-bb51-9a539a147090@www.bennettbardenfh.com
DTSTAMP:20260423T211637Z
DTSTART:20260428T180000Z
DTEND:20260428T190000Z
SUMMARY:Interment
DESCRIPTION:
URL:https://www.bennettbardenfh.com/obituaries/jane-ferebee
LOCATION:Dale Memorial Park 10201 Newbys Bridge Rd.   Chesterfield VA 
	23832
GEO:37.3969855;-77.5779907
END:VEVENT
END:VCALENDAR