BEGIN:VCALENDAR
VERSION:2.0
PRODID:-//Tukios.com/
BEGIN:VEVENT
UID:f31b25b4-989a-47fd-a5bd-9483e9a7e237@www.bennettbardenfh.com
DTSTAMP:20260423T222436Z
DTSTART:20260502T203000Z
DTEND:20260502T213000Z
SUMMARY:Funeral Service
DESCRIPTION:
URL:https://www.bennettbardenfh.com/obituaries/richard-atkinson
LOCATION: 1655 Dorset Road  Powhatan VA 23139
GEO:37.5097768;-77.8198944
END:VEVENT
END:VCALENDAR